BEGIN:VCALENDAR
VERSION:2.0
PRODID:-//Vibrant Pittsburgh - ECPv6.15.20//NONSGML v1.0//EN
CALSCALE:GREGORIAN
METHOD:PUBLISH
X-ORIGINAL-URL:https://vibrantpittsburgh.org
X-WR-CALDESC:Events for Vibrant Pittsburgh
REFRESH-INTERVAL;VALUE=DURATION:PT1H
X-Robots-Tag:noindex
X-PUBLISHED-TTL:PT1H
BEGIN:VTIMEZONE
TZID:America/New_York
BEGIN:DAYLIGHT
TZOFFSETFROM:-0500
TZOFFSETTO:-0400
TZNAME:EDT
DTSTART:20210314T070000
END:DAYLIGHT
BEGIN:STANDARD
TZOFFSETFROM:-0400
TZOFFSETTO:-0500
TZNAME:EST
DTSTART:20211107T060000
END:STANDARD
BEGIN:DAYLIGHT
TZOFFSETFROM:-0500
TZOFFSETTO:-0400
TZNAME:EDT
DTSTART:20220313T070000
END:DAYLIGHT
BEGIN:STANDARD
TZOFFSETFROM:-0400
TZOFFSETTO:-0500
TZNAME:EST
DTSTART:20221106T060000
END:STANDARD
BEGIN:DAYLIGHT
TZOFFSETFROM:-0500
TZOFFSETTO:-0400
TZNAME:EDT
DTSTART:20230312T070000
END:DAYLIGHT
BEGIN:STANDARD
TZOFFSETFROM:-0400
TZOFFSETTO:-0500
TZNAME:EST
DTSTART:20231105T060000
END:STANDARD
END:VTIMEZONE
BEGIN:VEVENT
DTSTART;TZID=America/New_York:20221110T163000
DTEND;TZID=America/New_York:20221110T193000
DTSTAMP:20260422T042631
CREATED:20221027T003223Z
LAST-MODIFIED:20221027T003223Z
UID:1555-1668097800-1668108600@vibrantpittsburgh.org
SUMMARY:Executive Dine Around- Historic Hill District Tour
DESCRIPTION:Join Vibrant Pittsburgh on Thursday\, November 10 at 4:30pm for an exclusive networking opportunity. Engage with new\, local executives of color while learning more about Pittsburgh’s historical Hill District via a guided tour by local historian\, Terri Baltimore. No need to pack your walking shoes; transportation will be provided by Molly’s Trolleys. The 75-minute tour will conclude with complimentary drinks and appetizers provided by Eminent Hospitality Solutions. The tour will begin and conclude at the Energy Innovation Center (1435 Bedford Ave\, Pittsburgh\, PA 15219). Space is limited. To register\, contact Derrick Shoffner at derricks@vibrantpittsburgh.org. 
URL:https://vibrantpittsburgh.org/event/executive-dine-around-historic-hill-district-tour/
LOCATION:Energy Innovation Center\, 1435 Bedford Ave\, Pittsburgh\, PA\, 15219\, United States
END:VEVENT
END:VCALENDAR